BEGIN:VCALENDAR
VERSION:2.0
PRODID:-//Okanagan Harley Owners Group - ECPv6.15.20//NONSGML v1.0//EN
CALSCALE:GREGORIAN
METHOD:PUBLISH
X-WR-CALNAME:Okanagan Harley Owners Group
X-ORIGINAL-URL:https://www.okhog.ca
X-WR-CALDESC:Events for Okanagan Harley Owners Group
REFRESH-INTERVAL;VALUE=DURATION:PT1H
X-Robots-Tag:noindex
X-PUBLISHED-TTL:PT1H
BEGIN:VTIMEZONE
TZID:America/Vancouver
BEGIN:DAYLIGHT
TZOFFSETFROM:-0800
TZOFFSETTO:-0700
TZNAME:PDT
DTSTART:20240310T100000
END:DAYLIGHT
BEGIN:STANDARD
TZOFFSETFROM:-0700
TZOFFSETTO:-0800
TZNAME:PST
DTSTART:20241103T090000
END:STANDARD
BEGIN:DAYLIGHT
TZOFFSETFROM:-0800
TZOFFSETTO:-0700
TZNAME:PDT
DTSTART:20250309T100000
END:DAYLIGHT
BEGIN:STANDARD
TZOFFSETFROM:-0700
TZOFFSETTO:-0800
TZNAME:PST
DTSTART:20251102T090000
END:STANDARD
BEGIN:DAYLIGHT
TZOFFSETFROM:-0800
TZOFFSETTO:-0700
TZNAME:PDT
DTSTART:20260308T100000
END:DAYLIGHT
BEGIN:STANDARD
TZOFFSETFROM:-0700
TZOFFSETTO:-0800
TZNAME:PST
DTSTART:20261101T090000
END:STANDARD
END:VTIMEZONE
BEGIN:VEVENT
DTSTART;TZID=America/Vancouver:20250607T093000
DTEND;TZID=America/Vancouver:20250607T170000
DTSTAMP:20260421T041316
CREATED:20250412T230306Z
LAST-MODIFIED:20250414T010645Z
UID:4318-1749288600-1749315600@www.okhog.ca
SUMMARY:Saturday June 7th HOG Open Ride
DESCRIPTION:Ride from Kelowna Harley Davidson\, all bikes welcome \nRide to be determined\, all suggestions are welcome. \nMeet at 9:30 am\, leaving at 10:00 am \n 
URL:https://www.okhog.ca/event/saturday-june-7th-hog-open-ride/
LOCATION:Kelowna HOG Chapter 9099\, 888 McCurdy Place\, Kelowna\, BC\, V1X 8C8\, Canada
CATEGORIES:OK HOG Chapter Event
ORGANIZER;CN="Greg Amyotte":MAILTO:directorokhog@gmail.com
END:VEVENT
BEGIN:VEVENT
DTSTART;TZID=America/Vancouver:20250614T080000
DTEND;TZID=America/Vancouver:20250614T170000
DTSTAMP:20260421T041316
CREATED:20250412T231220Z
LAST-MODIFIED:20250414T010617Z
UID:4320-1749888000-1749920400@www.okhog.ca
SUMMARY:Saturday June 14th HOG Open Ride
DESCRIPTION:Ride from Kelowna Harley Davidson\, all bikes welcome \nRide to be determined\, all suggestions are welcome. \nMeet at 9:30 am\, leaving at 10:00 am \n 
URL:https://www.okhog.ca/event/saturday-june-14th-hog-open-ride/
LOCATION:Kelowna HOG Chapter 9099\, 888 McCurdy Place\, Kelowna\, BC\, V1X 8C8\, Canada
CATEGORIES:OK HOG Chapter Event
ORGANIZER;CN="Greg Amyotte":MAILTO:directorokhog@gmail.com
END:VEVENT
BEGIN:VEVENT
DTSTART;TZID=America/Vancouver:20250621T093000
DTEND;TZID=America/Vancouver:20250621T170000
DTSTAMP:20260421T041316
CREATED:20250412T231300Z
LAST-MODIFIED:20250414T010630Z
UID:4322-1750498200-1750525200@www.okhog.ca
SUMMARY:Saturday June 21st HOG Open Ride
DESCRIPTION:Ride from Kelowna Harley Davidson\, all bikes welcome \nRide to be determined\, all suggestions are welcome. \nMeet at 9:30 am\, leaving at 10:00 am \n 
URL:https://www.okhog.ca/event/saturday-june-21st-hog-open-ride/
LOCATION:Kelowna HOG Chapter 9099\, 888 McCurdy Place\, Kelowna\, BC\, V1X 8C8\, Canada
CATEGORIES:OK HOG Chapter Event
ORGANIZER;CN="Greg Amyotte":MAILTO:directorokhog@gmail.com
END:VEVENT
BEGIN:VEVENT
DTSTART;TZID=America/Vancouver:20250622T093000
DTEND;TZID=America/Vancouver:20250622T170000
DTSTAMP:20260421T041316
CREATED:20250412T194105Z
LAST-MODIFIED:20250414T010601Z
UID:4300-1750584600-1750611600@www.okhog.ca
SUMMARY:Chapter Ride - Rock Creek Loop
DESCRIPTION:Rock Creek Loop \nMeet at KHD 9:30 am depart 10:00 am (Full tank and empty bladder) \nPic Nic at Hall Creek Rest Area (Approx. 1 Hour) \nRock Creek (Fuel Stop if Required) \nPenticton (Possible beverage stop) \nRide to Kelowna
URL:https://www.okhog.ca/event/2025-chapter-ride-rock-creek-loop/
LOCATION:Kelowna HOG Chapter 9099\, 888 McCurdy Place\, Kelowna\, BC\, V1X 8C8\, Canada
CATEGORIES:OK HOG Chapter Event
ORGANIZER;CN="Greg Amyotte":MAILTO:directorokhog@gmail.com
END:VEVENT
BEGIN:VEVENT
DTSTART;TZID=America/Vancouver:20250622T093000
DTEND;TZID=America/Vancouver:20250622T170000
DTSTAMP:20260421T041316
CREATED:20250708T173053Z
LAST-MODIFIED:20260305T184806Z
UID:4367-1750584600-1750611600@www.okhog.ca
SUMMARY:HOG Chapter Ride #1 - June 22 - Rock Creek Loop
DESCRIPTION:Rock Creek Loop \nMeet KHD 9:30am – departs 10:am \nPicnic at Hall Creek Rest Area (approximately 1 hour) \nRock Creek (fuel stop if required) \nPenticton (possible beverage stop) \nLast leg ride back to Kelowna \nNote: Start with full tank of gas and empty bladder.
URL:https://www.okhog.ca/event/hog-chapter-ride-1-june-22/
LOCATION:Kelowna HOG Chapter 9099\, 888 McCurdy Place\, Kelowna\, BC\, V1X 8C8\, Canada
CATEGORIES:OK HOG Chapter Event
ORGANIZER;CN="Greg Amyotte":MAILTO:directorokhog@gmail.com
END:VEVENT
BEGIN:VEVENT
DTSTART;TZID=America/Vancouver:20250628T093000
DTEND;TZID=America/Vancouver:20250628T170000
DTSTAMP:20260421T041316
CREATED:20250412T231538Z
LAST-MODIFIED:20250414T010541Z
UID:4324-1751103000-1751130000@www.okhog.ca
SUMMARY:Saturday June 28th HOG Open Ride
DESCRIPTION:Ride from Kelowna Harley Davidson\, all bikes welcome \nRide to be determined\, all suggestions are welcome. \nMeet at 9:30 am\, leaving at 10:00 am \n 
URL:https://www.okhog.ca/event/saturday-june-28th-hog-open-ride/
LOCATION:Kelowna HOG Chapter 9099\, 888 McCurdy Place\, Kelowna\, BC\, V1X 8C8\, Canada
CATEGORIES:OK HOG Chapter Event
ORGANIZER;CN="Greg Amyotte":MAILTO:directorokhog@gmail.com
END:VEVENT
END:VCALENDAR