BEGIN:VCALENDAR
VERSION:2.0
PRODID:-//Okanagan Harley Owners Group - ECPv6.15.20//NONSGML v1.0//EN
CALSCALE:GREGORIAN
METHOD:PUBLISH
X-WR-CALNAME:Okanagan Harley Owners Group
X-ORIGINAL-URL:https://www.okhog.ca
X-WR-CALDESC:Events for Okanagan Harley Owners Group
REFRESH-INTERVAL;VALUE=DURATION:PT1H
X-Robots-Tag:noindex
X-PUBLISHED-TTL:PT1H
BEGIN:VTIMEZONE
TZID:America/Vancouver
BEGIN:DAYLIGHT
TZOFFSETFROM:-0800
TZOFFSETTO:-0700
TZNAME:PDT
DTSTART:20240310T100000
END:DAYLIGHT
BEGIN:STANDARD
TZOFFSETFROM:-0700
TZOFFSETTO:-0800
TZNAME:PST
DTSTART:20241103T090000
END:STANDARD
BEGIN:DAYLIGHT
TZOFFSETFROM:-0800
TZOFFSETTO:-0700
TZNAME:PDT
DTSTART:20250309T100000
END:DAYLIGHT
BEGIN:STANDARD
TZOFFSETFROM:-0700
TZOFFSETTO:-0800
TZNAME:PST
DTSTART:20251102T090000
END:STANDARD
BEGIN:DAYLIGHT
TZOFFSETFROM:-0800
TZOFFSETTO:-0700
TZNAME:PDT
DTSTART:20260308T100000
END:DAYLIGHT
BEGIN:STANDARD
TZOFFSETFROM:-0700
TZOFFSETTO:-0800
TZNAME:PST
DTSTART:20261101T090000
END:STANDARD
END:VTIMEZONE
BEGIN:VEVENT
DTSTART;TZID=America/Vancouver:20250622T093000
DTEND;TZID=America/Vancouver:20250622T170000
DTSTAMP:20260421T053819
CREATED:20250412T194105Z
LAST-MODIFIED:20250414T010601Z
UID:4300-1750584600-1750611600@www.okhog.ca
SUMMARY:Chapter Ride - Rock Creek Loop
DESCRIPTION:Rock Creek Loop \nMeet at KHD 9:30 am depart 10:00 am (Full tank and empty bladder) \nPic Nic at Hall Creek Rest Area (Approx. 1 Hour) \nRock Creek (Fuel Stop if Required) \nPenticton (Possible beverage stop) \nRide to Kelowna
URL:https://www.okhog.ca/event/2025-chapter-ride-rock-creek-loop/
LOCATION:Kelowna HOG Chapter 9099\, 888 McCurdy Place\, Kelowna\, BC\, V1X 8C8\, Canada
CATEGORIES:OK HOG Chapter Event
ORGANIZER;CN="Greg Amyotte":MAILTO:directorokhog@gmail.com
END:VEVENT
BEGIN:VEVENT
DTSTART;TZID=America/Vancouver:20250622T093000
DTEND;TZID=America/Vancouver:20250622T170000
DTSTAMP:20260421T053819
CREATED:20250708T173053Z
LAST-MODIFIED:20260305T184806Z
UID:4367-1750584600-1750611600@www.okhog.ca
SUMMARY:HOG Chapter Ride #1 - June 22 - Rock Creek Loop
DESCRIPTION:Rock Creek Loop \nMeet KHD 9:30am – departs 10:am \nPicnic at Hall Creek Rest Area (approximately 1 hour) \nRock Creek (fuel stop if required) \nPenticton (possible beverage stop) \nLast leg ride back to Kelowna \nNote: Start with full tank of gas and empty bladder.
URL:https://www.okhog.ca/event/hog-chapter-ride-1-june-22/
LOCATION:Kelowna HOG Chapter 9099\, 888 McCurdy Place\, Kelowna\, BC\, V1X 8C8\, Canada
CATEGORIES:OK HOG Chapter Event
ORGANIZER;CN="Greg Amyotte":MAILTO:directorokhog@gmail.com
END:VEVENT
END:VCALENDAR