BEGIN:VCALENDAR
VERSION:2.0
PRODID:-//Okanagan Harley Owners Group - ECPv6.15.20//NONSGML v1.0//EN
CALSCALE:GREGORIAN
METHOD:PUBLISH
X-ORIGINAL-URL:https://www.okhog.ca
X-WR-CALDESC:Events for Okanagan Harley Owners Group
REFRESH-INTERVAL;VALUE=DURATION:PT1H
X-Robots-Tag:noindex
X-PUBLISHED-TTL:PT1H
BEGIN:VTIMEZONE
TZID:America/Vancouver
BEGIN:DAYLIGHT
TZOFFSETFROM:-0800
TZOFFSETTO:-0700
TZNAME:PDT
DTSTART:20240310T100000
END:DAYLIGHT
BEGIN:STANDARD
TZOFFSETFROM:-0700
TZOFFSETTO:-0800
TZNAME:PST
DTSTART:20241103T090000
END:STANDARD
BEGIN:DAYLIGHT
TZOFFSETFROM:-0800
TZOFFSETTO:-0700
TZNAME:PDT
DTSTART:20250309T100000
END:DAYLIGHT
BEGIN:STANDARD
TZOFFSETFROM:-0700
TZOFFSETTO:-0800
TZNAME:PST
DTSTART:20251102T090000
END:STANDARD
BEGIN:DAYLIGHT
TZOFFSETFROM:-0800
TZOFFSETTO:-0700
TZNAME:PDT
DTSTART:20260308T100000
END:DAYLIGHT
BEGIN:STANDARD
TZOFFSETFROM:-0700
TZOFFSETTO:-0800
TZNAME:PST
DTSTART:20261101T090000
END:STANDARD
BEGIN:DAYLIGHT
TZOFFSETFROM:-0800
TZOFFSETTO:-0700
TZNAME:PDT
DTSTART:20270314T100000
END:DAYLIGHT
BEGIN:STANDARD
TZOFFSETFROM:-0700
TZOFFSETTO:-0800
TZNAME:PST
DTSTART:20271107T090000
END:STANDARD
END:VTIMEZONE
BEGIN:VEVENT
DTSTART;TZID=America/Vancouver:20250713T100000
DTEND;TZID=America/Vancouver:20250713T170000
DTSTAMP:20260421T141713
CREATED:20250708T172158Z
LAST-MODIFIED:20260305T184211Z
UID:4361-1752400800-1752426000@www.okhog.ca
SUMMARY:HOG Chapter Ride #2 - July 13 - Rock Creek Loop
DESCRIPTION:Rock Creek Loop \nMeet @ KHD 9:30 am \nKick Stands Up @ 10:00 am \nSouth on Hiway 33 – brief stop for gas and/or coffee in Beaverdell \nHiway #3 to Su Casa Mexican Restaurant for lunch \nContinue Hiway #3 to Osoyoos and Hiway #97 back to Kelowna \n  \nTo be determined as a group: \nPossible stops on way back to Kelowna: \n1). Peachland for Ice Cream at Sunnyside Market \n2). Summerland Ice Cream on Main St for Gelato \nLast leg ride back to Kelowna. \nNote: Start with full tank of gas and empty bladder.
URL:https://www.okhog.ca/event/hog-chapter-ride-2-july-13/
LOCATION:Kelowna HOG Chapter 9099\, 888 McCurdy Place\, Kelowna\, BC\, V1X 8C8\, Canada
CATEGORIES:OK HOG Chapter Event
END:VEVENT
BEGIN:VEVENT
DTSTART;TZID=America/Vancouver:20250822T080000
DTEND;TZID=America/Vancouver:20250824T170000
DTSTAMP:20260421T141713
CREATED:20250708T172354Z
LAST-MODIFIED:20260305T184142Z
UID:4363-1755849600-1756054800@www.okhog.ca
SUMMARY:HOG Chapter Ride #3 - August 22 - 24 - TBA
DESCRIPTION:TBA – Possible Ride to Wells Gray Park – Water Fall Tour \n\nPossible Creston Run\n\nStay in Clearwater.
URL:https://www.okhog.ca/event/hog-chapter-ride-3-august-23-24/
LOCATION:Kelowna HOG Chapter 9099\, 888 McCurdy Place\, Kelowna\, BC\, V1X 8C8\, Canada
CATEGORIES:OK HOG Chapter Event
END:VEVENT
BEGIN:VEVENT
DTSTART;TZID=America/Vancouver:20250907T080000
DTEND;TZID=America/Vancouver:20250907T170000
DTSTAMP:20260421T141713
CREATED:20250717T182024Z
LAST-MODIFIED:20260305T184116Z
UID:4386-1757232000-1757264400@www.okhog.ca
SUMMARY:HOG Chapter Ride # 4 - September 7 - TBA
DESCRIPTION:TBA – All options are open for discussion.
URL:https://www.okhog.ca/event/hog-chapter-ride-4/
LOCATION:Kelowna HOG Chapter 9099\, 888 McCurdy Place\, Kelowna\, BC\, V1X 8C8\, Canada
CATEGORIES:OK HOG Chapter Event
END:VEVENT
BEGIN:VEVENT
DTSTART;TZID=America/Vancouver:20251129T173000
DTEND;TZID=America/Vancouver:20251129T220000
DTSTAMP:20260421T141713
CREATED:20251109T205615Z
LAST-MODIFIED:20260305T184036Z
UID:4396-1764437400-1764453600@www.okhog.ca
SUMMARY:HOG Chapter Party - Rusty's Pub
DESCRIPTION:Join us at Rusty’s Pub \nFeel free to bring a friend. \n1525 Dilworth Drive. \n5:30 pm Meet Up \n6:00 pm Pool Tournament \nChapter will be providing appetizers. \nDrinks and Meals are riders expense. \nRSVP – Jo-Anne \nmembershipokhog@gmail.com \n 
URL:https://www.okhog.ca/event/hog-chapter-party-rustys-pub/
LOCATION:Kelowna HOG Chapter 9099\, 888 McCurdy Place\, Kelowna\, BC\, V1X 8C8\, Canada
CATEGORIES:OK HOG Chapter Event
END:VEVENT
BEGIN:VEVENT
DTSTART;TZID=America/Vancouver:20260418T100000
DTEND;TZID=America/Vancouver:20260418T120000
DTSTAMP:20260421T141713
CREATED:20250327T122048Z
LAST-MODIFIED:20260327T175215Z
UID:4296-1776506400-1776513600@www.okhog.ca
SUMMARY:HOG Chapter 9099 - Annual AGM Meeting
DESCRIPTION:This is the Annual AGM for HOG Chapter 9099 \nMeeting will be at Kelowna Harley Davidson.
URL:https://www.okhog.ca/event/hog-chapter-9099-2025-agm-meeting/
LOCATION:Kelowna HOG Chapter 9099\, 888 McCurdy Place\, Kelowna\, BC\, V1X 8C8\, Canada
CATEGORIES:OK HOG Chapter Event
ORGANIZER;CN="Greg Amyotte":MAILTO:directorokhog@gmail.com
END:VEVENT
BEGIN:VEVENT
DTSTART;VALUE=DATE:20260730
DTEND;VALUE=DATE:20260804
DTSTAMP:20260421T141713
CREATED:20260225T224718Z
LAST-MODIFIED:20260225T235820Z
UID:4404-1785369600-1785801599@www.okhog.ca
SUMMARY:16th Prairie Regional HOG Rally 2026
DESCRIPTION:The Prairie Regional HOG Rally is happening July 30 to August 2\, 2026\, in Winnipeg Manitoba\, Canada \nMeet us in the Middle – 16th Prairie Regional HOG Rally \nThey are looking forward to welcoming many HOG members from across Canada to Winnipeg and for them to take in all they have to offer in the centre of Canada. \nJuly 30th @ 8:00 AM – August 2nd @ 5:00 PM \n  \nRally Details\n 
URL:https://www.okhog.ca/event/16th-prairie-regional-hog-rally-2026/
LOCATION:Prairie Regional HOG Rally\, 1377 Niakwa Rd E\, Winnipeg\, Manitoba\, Canada
CATEGORIES:OK HOG Chapter Event,Prairie Regional HOG Rally
ORGANIZER;CN="Greg Amyotte":MAILTO:directorokhog@gmail.com
END:VEVENT
END:VCALENDAR